BEGIN:VCALENDAR
VERSION:2.0
PRODID:icalendar-ruby
CALSCALE:GREGORIAN
METHOD:PUBLISH
BEGIN:VEVENT
DTSTAMP:20260424T060238Z
UID:149-828058@christchurchanglican.ca
DTSTART:20260812T160000Z
DTEND:20260812T170000Z
CLASS:PUBLIC
CREATED:20260423T221010
DESCRIPTION:
LAST-MODIFIED:20260423T221010
LOCATION:St. George's Chapel\, Christ Church Anglican\, Meaford
SUMMARY:Midweek Prayer (Said) Service
URL;VALUE=URI:https://www.christchurchanglican.ca/events/midweek-prayer-sai
 d-service/2026-08-12
ATTACH;FILENAME=chapel_-10.jpg;FMTTYPE=image/jpeg:https://dq5pwpg1q8ru0.clo
 udfront.net/2025/02/12/20/52/28/413c33f8-f66c-4782-9431-1b580759f490/chape
 l_-10.jpg
END:VEVENT
END:VCALENDAR
